BEGIN:VCALENDAR
VERSION:2.0
PRODID:-//TYPO3/NONSGML News system (news)//EN
BEGIN:VEVENT
UID:news-3198@boku.ac.at
TZID:Europe/Vienna
DTSTAMP:20081111T104648
DTSTART:20081110T123200
DTEND:
SUMMARY:Barbara-Feier an der BOKU Wien
DESCRIPTION:Das BOKU-Institut für Angewandte Geologie lädt am
  &lt;b&gt;Freitag, den 5. Dezember 2008 ab 19:00 Uhr &lt;/b&gt;zur
  geselligen Barbara-Feier ein. Besonders willkommen sind
  &lt;b&gt;im Festsaal&lt;/b&gt; alle Barbaras, die Angehörige der BOKU
  sind. Anmeldungen bitte &lt;b&gt;bis 3. Dezember 2008&lt;/b&gt; per mail
  an Frau Friederike Hintermüller: &lt;a
  href=&quot;mailto:friederike.hintermueller@boku.ac.at&quot;&gt;friederik
  e.hintermueller@boku.ac.at&lt;/a&gt;&amp;nbsp;
LOCATION:
ORGANIZER:
END:VEVENT
END:VCALENDAR
