BEGIN:VCALENDAR
VERSION:2.0
PRODID:-//TYPO3/NONSGML News system (news)//EN
BEGIN:VEVENT
UID:news-5847@boku.ac.at
TZID:Europe/Vienna
DTSTAMP:20201202T053853
DTSTART:20091027T151600
DTEND:
SUMMARY:Gastprofessor Wolfgang Liebert
DESCRIPTION:Dr. Wolfgang Liebert, IANUS, Technischen Universität
  Darmstadt, ist im WS 2009/10 Gastprofessor am Institut für
  Sicherheits- und Risikowissenschaften, Department für
  Bautechnik und Naturgefahren. &lt;br&gt;&lt;br&gt;
LOCATION:
ORGANIZER:
END:VEVENT
END:VCALENDAR
