BEGIN:VCALENDAR
VERSION:2.0
PRODID:-//TYPO3/NONSGML News system (news)//EN
BEGIN:VEVENT
UID:news-90990@boku.ac.at
TZID:Europe/Vienna
DTSTAMP:20260416T095136
DTSTART:20260512T120000
DTEND:20260512T133000
SUMMARY:Social Ecology Lecture
DESCRIPTION:Presentation: Cecilia Rikap (Associate Professor in
  Economics and Head of Research at the Institute for
  Innovation and Public Purpose, University College London)
LOCATION:SR31 Schottenfeldgasse 29, 1070 Wien &amp; ZOOM
ORGANIZER:
END:VEVENT
END:VCALENDAR
