BEGIN:VCALENDAR
VERSION:2.0
PRODID:-//TYPO3/NONSGML News system (news)//EN
BEGIN:VEVENT
UID:news-91053@boku.ac.at
TZID:Europe/Vienna
DTSTAMP:20260423T090344
DTSTART:20260512T180000
DTEND:20260512T200000
SUMMARY:Landwirtschaft unter Strom – Agri-PV als Ökosystem zwischen Energie und Biodiversität
DESCRIPTION:Projektpräsentation und Diskussion zu Themen der
  landwirtschaftlichen Produktion und metereologischen
  Parametern, biodiversitätsfördernder Maßnahmen und der
  Nachhaltigkeitsbewertung.
LOCATION:ILWA - Seminarraum SR29, Ilse-Wallentin-Haus,
  Peter-Jordan-Straße 82, 1190 Wien
ORGANIZER:
END:VEVENT
END:VCALENDAR
