BEGIN:VCALENDAR
VERSION:2.0
PRODID:-//TYPO3/NONSGML News system (news)//EN
BEGIN:VEVENT
UID:news-91062@boku.ac.at
TZID:Europe/Vienna
DTSTAMP:20260420T102821
DTSTART:20260518T100000
DTEND:20260521T160000
SUMMARY:Internationale Tage @BOKU
DESCRIPTION:Infos zu Gastunis, Stipendien &amp; Internationalen
  Masterprogrammen | Beratung für Studierende und Personal |
  Meet &amp; Greet im Internationalen Café am 19. Mai |
  Spannender Vortrag über Simbabwe und Südafrika
LOCATION:Schwackhöferhaus und online
ORGANIZER:
END:VEVENT
END:VCALENDAR
