BEGIN:VCALENDAR
VERSION:2.0
PRODID:-//TYPO3/NONSGML News system (news)//EN
BEGIN:VEVENT
UID:news-91068@boku.ac.at
TZID:Europe/Vienna
DTSTAMP:20260414T144657
DTSTART:20260519T133000
DTEND:20260519T163000
SUMMARY:International Café
DESCRIPTION:Vernetzung und Austausch mit internationalen Studierenden &amp;
  Partnerorganisationen bei gratis Kaffee &amp; Snacks
LOCATION:Franz-Schwackhöfer-Haus, Peter-Jordan-Straße 82, 1190 Wien
ORGANIZER:
END:VEVENT
END:VCALENDAR
