BEGIN:VCALENDAR
VERSION:2.0
PRODID:-//TYPO3/NONSGML News system (news)//EN
BEGIN:VEVENT
UID:news-91074@boku.ac.at
TZID:Europe/Vienna
DTSTAMP:20260415T093143
DTSTART:20260519T160000
DTEND:20260519T180000
SUMMARY:Beyond Borders 
DESCRIPTION:Lecture by Univ.Prof. Priv.Doz.DI Dr.nat.techn. Katharina
  Gugerell
LOCATION:Schwackhöferhaus SR Landtechnik
ORGANIZER:
END:VEVENT
END:VCALENDAR
