BEGIN:VCALENDAR
VERSION:2.0
PRODID:-//TYPO3/NONSGML News system (news)//EN
BEGIN:VEVENT
UID:news-91089@boku.ac.at
TZID:Europe/Vienna
DTSTAMP:20260414T150752
DTSTART:20260508T180300
DTEND:20260508T220300
SUMMARY:Prämierungsfest BOKU Wein und BOKU Saft 2026
DESCRIPTION:
LOCATION:UFT, Inge-Dirmhirn-Haus, Konrad-Lorenz-Strasse 24, 3430 Tulln
ORGANIZER:
END:VEVENT
END:VCALENDAR
