BEGIN:VCALENDAR
VERSION:2.0
PRODID:-//TYPO3/NONSGML News system (news)//EN
BEGIN:VEVENT
UID:news-91182@boku.ac.at
TZID:Europe/Vienna
DTSTAMP:20260421T083554
DTSTART:20260520T090000
DTEND:20260520T170000
SUMMARY:Zukunftsfähige Agrarlebensräume für Bestäuber
DESCRIPTION:Vielfältige und strukturreiche Agrarlandschaften bilden die
  Grundlage für stabile Bestäuberpopulationen. Das
  Bienenzentrum OÖ, das Netzwerk Zukunftsraum Land und die
  Biene Österreich organisieren anlässlich des
  internationalen Weltbienentags am 20. Mai 2026 eine
  Fachveranstaltung zu dieser Thematik.
LOCATION:Großer Saal Landwirtschaftskammer Oberösterreich, Auf der
  Gugl 3, 4021 Linz
ORGANIZER:
END:VEVENT
END:VCALENDAR
